BEGIN:VCALENDAR
VERSION:2.0
PRODID:-//Willow Church - ECPv6.15.14//NONSGML v1.0//EN
CALSCALE:GREGORIAN
METHOD:PUBLISH
X-WR-CALNAME:Willow Church
X-ORIGINAL-URL:https://willowchurch.com
X-WR-CALDESC:Events for Willow Church
REFRESH-INTERVAL;VALUE=DURATION:PT1H
X-Robots-Tag:noindex
X-PUBLISHED-TTL:PT1H
BEGIN:VTIMEZONE
TZID:America/Chicago
BEGIN:DAYLIGHT
TZOFFSETFROM:-0600
TZOFFSETTO:-0500
TZNAME:CDT
DTSTART:20210314T080000
END:DAYLIGHT
BEGIN:STANDARD
TZOFFSETFROM:-0500
TZOFFSETTO:-0600
TZNAME:CST
DTSTART:20211107T070000
END:STANDARD
BEGIN:DAYLIGHT
TZOFFSETFROM:-0600
TZOFFSETTO:-0500
TZNAME:CDT
DTSTART:20220313T080000
END:DAYLIGHT
BEGIN:STANDARD
TZOFFSETFROM:-0500
TZOFFSETTO:-0600
TZNAME:CST
DTSTART:20221106T070000
END:STANDARD
BEGIN:DAYLIGHT
TZOFFSETFROM:-0600
TZOFFSETTO:-0500
TZNAME:CDT
DTSTART:20230312T080000
END:DAYLIGHT
BEGIN:STANDARD
TZOFFSETFROM:-0500
TZOFFSETTO:-0600
TZNAME:CST
DTSTART:20231105T070000
END:STANDARD
END:VTIMEZONE
BEGIN:VEVENT
DTSTART;TZID=America/Chicago:20220112T093000
DTEND;TZID=America/Chicago:20220112T110000
DTSTAMP:20260421T205818
CREATED:20211122T174403Z
LAST-MODIFIED:20220916T211535Z
UID:9279-1641979800-1641985200@willowchurch.com
SUMMARY:Ladies Bible Study - Morning Study
DESCRIPTION:Ladies Bible Study\nBeginning on September 1st \nThe Study of Elijah by Priscilla Shirer. \nDay/Time: Wednesdays @ 9:30am\nLocation: Willow Church\, Room TBA \nFor more information on the morning study\, contact Contact Elaine at winniford1@gmail.com
URL:https://willowchurch.com/event/ladies-bible-study-morning-study/
LOCATION:Willow Church\, 200 Willow Drive\, Lake Jackson\, TX\, 77566\, United States
END:VEVENT
BEGIN:VEVENT
DTSTART;TZID=America/Chicago:20220112T093000
DTEND;TZID=America/Chicago:20220112T110000
DTSTAMP:20260421T205818
CREATED:20211122T174403Z
LAST-MODIFIED:20220916T211535Z
UID:9279-1641979800-1641985200@willowchurch.com
SUMMARY:Ladies Bible Study - Morning Study
DESCRIPTION:Ladies Bible Study\nBeginning on September 1st \nThe Study of Elijah by Priscilla Shirer. \nDay/Time: Wednesdays @ 9:30am\nLocation: Willow Church\, Room TBA \nFor more information on the morning study\, contact Contact Elaine at winniford1@gmail.com
URL:https://willowchurch.com/event/ladies-bible-study-morning-study/
LOCATION:Willow Church\, 200 Willow Drive\, Lake Jackson\, TX\, 77566\, United States
END:VEVENT
BEGIN:VEVENT
DTSTART;TZID=America/Chicago:20220112T093000
DTEND;TZID=America/Chicago:20220112T110000
DTSTAMP:20260421T205818
CREATED:20211122T174403Z
LAST-MODIFIED:20220916T211535Z
UID:9279-1641979800-1641985200@willowchurch.com
SUMMARY:Ladies Bible Study - Morning Study
DESCRIPTION:Ladies Bible Study\nBeginning on September 1st \nThe Study of Elijah by Priscilla Shirer. \nDay/Time: Wednesdays @ 9:30am\nLocation: Willow Church\, Room TBA \nFor more information on the morning study\, contact Contact Elaine at winniford1@gmail.com
URL:https://willowchurch.com/event/ladies-bible-study-morning-study/
LOCATION:Willow Church\, 200 Willow Drive\, Lake Jackson\, TX\, 77566\, United States
END:VEVENT
BEGIN:VEVENT
DTSTART;TZID=America/Chicago:20220112T093000
DTEND;TZID=America/Chicago:20220112T110000
DTSTAMP:20260421T205818
CREATED:20211122T174403Z
LAST-MODIFIED:20220916T211535Z
UID:9279-1641979800-1641985200@willowchurch.com
SUMMARY:Ladies Bible Study - Morning Study
DESCRIPTION:Ladies Bible Study\nBeginning on September 1st \nThe Study of Elijah by Priscilla Shirer. \nDay/Time: Wednesdays @ 9:30am\nLocation: Willow Church\, Room TBA \nFor more information on the morning study\, contact Contact Elaine at winniford1@gmail.com
URL:https://willowchurch.com/event/ladies-bible-study-morning-study/
LOCATION:Willow Church\, 200 Willow Drive\, Lake Jackson\, TX\, 77566\, United States
END:VEVENT
BEGIN:VEVENT
DTSTART;VALUE=DATE:20220828
DTEND;VALUE=DATE:20220829
DTSTAMP:20260421T205818
CREATED:20220815T191222Z
LAST-MODIFIED:20220815T191230Z
UID:9819-1661644800-1661731199@willowchurch.com
SUMMARY:Baptisms
DESCRIPTION:If you would like to be baptized\, please email Pastor Derrick at derrick@willowchurch.com.
URL:https://willowchurch.com/event/baptisms/
LOCATION:TX
ATTACH;FMTTYPE=image/jpeg:https://willowchurch.com/wp-content/uploads/2022/08/Events-Baptisms.jpg
END:VEVENT
BEGIN:VEVENT
DTSTART;VALUE=DATE:20220828
DTEND;VALUE=DATE:20220829
DTSTAMP:20260421T205818
CREATED:20220815T191303Z
LAST-MODIFIED:20220815T191310Z
UID:9821-1661644800-1661731199@willowchurch.com
SUMMARY:Ministry Expo Bowl
DESCRIPTION:We will be hosting a Ministry Expo Bowl directly after Service on Sunday\, August 28. We will have booths in the Atrium where you can learn more about what ministries we have available that you can connect with!
URL:https://willowchurch.com/event/ministry-expo-bowl/
LOCATION:TX
ATTACH;FMTTYPE=image/jpeg:https://willowchurch.com/wp-content/uploads/2022/08/Events-Ministry-Expo-Bowl.jpg
END:VEVENT
BEGIN:VEVENT
DTSTART;VALUE=DATE:20220831
DTEND;VALUE=DATE:20220901
DTSTAMP:20260421T205818
CREATED:20220513T211209Z
LAST-MODIFIED:20220513T211209Z
UID:9749-1661904000-1661990399@willowchurch.com
SUMMARY:Breakout & KidsQuest Splash Party
DESCRIPTION:More info to come!
URL:https://willowchurch.com/event/breakout-kidsquest-splash-party/
LOCATION:TX
ATTACH;FMTTYPE=image/jpeg:https://willowchurch.com/wp-content/uploads/2022/05/Splash-Party.jpg
END:VEVENT
BEGIN:VEVENT
DTSTART;TZID=America/Chicago:20220112T093000
DTEND;TZID=America/Chicago:20220112T110000
DTSTAMP:20260421T205818
CREATED:20211122T174403Z
LAST-MODIFIED:20220916T211535Z
UID:9279-1641979800-1641985200@willowchurch.com
SUMMARY:Ladies Bible Study - Morning Study
DESCRIPTION:Ladies Bible Study\nBeginning on September 1st \nThe Study of Elijah by Priscilla Shirer. \nDay/Time: Wednesdays @ 9:30am\nLocation: Willow Church\, Room TBA \nFor more information on the morning study\, contact Contact Elaine at winniford1@gmail.com
URL:https://willowchurch.com/event/ladies-bible-study-morning-study/
LOCATION:Willow Church\, 200 Willow Drive\, Lake Jackson\, TX\, 77566\, United States
END:VEVENT
END:VCALENDAR