BEGIN:VCALENDAR
VERSION:2.0
PRODID:-//Willow Church - ECPv6.15.14//NONSGML v1.0//EN
CALSCALE:GREGORIAN
METHOD:PUBLISH
X-ORIGINAL-URL:https://willowchurch.com
X-WR-CALDESC:Events for Willow Church
REFRESH-INTERVAL;VALUE=DURATION:PT1H
X-Robots-Tag:noindex
X-PUBLISHED-TTL:PT1H
BEGIN:VTIMEZONE
TZID:America/Chicago
BEGIN:DAYLIGHT
TZOFFSETFROM:-0600
TZOFFSETTO:-0500
TZNAME:CDT
DTSTART:20190310T080000
END:DAYLIGHT
BEGIN:STANDARD
TZOFFSETFROM:-0500
TZOFFSETTO:-0600
TZNAME:CST
DTSTART:20191103T070000
END:STANDARD
BEGIN:DAYLIGHT
TZOFFSETFROM:-0600
TZOFFSETTO:-0500
TZNAME:CDT
DTSTART:20200308T080000
END:DAYLIGHT
BEGIN:STANDARD
TZOFFSETFROM:-0500
TZOFFSETTO:-0600
TZNAME:CST
DTSTART:20201101T070000
END:STANDARD
BEGIN:DAYLIGHT
TZOFFSETFROM:-0600
TZOFFSETTO:-0500
TZNAME:CDT
DTSTART:20210314T080000
END:DAYLIGHT
BEGIN:STANDARD
TZOFFSETFROM:-0500
TZOFFSETTO:-0600
TZNAME:CST
DTSTART:20211107T070000
END:STANDARD
BEGIN:DAYLIGHT
TZOFFSETFROM:-0600
TZOFFSETTO:-0500
TZNAME:CDT
DTSTART:20220313T080000
END:DAYLIGHT
BEGIN:STANDARD
TZOFFSETFROM:-0500
TZOFFSETTO:-0600
TZNAME:CST
DTSTART:20221106T070000
END:STANDARD
END:VTIMEZONE
BEGIN:VEVENT
DTSTART;TZID=America/Chicago:20200315T180000
DTEND;TZID=America/Chicago:20200315T200000
DTSTAMP:20260422T030441
CREATED:20210310T063023Z
LAST-MODIFIED:20210317T232439Z
UID:7988-1584295200-1584302400@willowchurch.com
SUMMARY:College & Young Adult Small Group
DESCRIPTION:We meet to seek God and create community to help strengthen our walk and relationship with the Lord. We seek to live a life of loving people like Jesus and relying on Holy Spirit to guide us into the miraculous. \nIf you’re interested\, text or call Alissa Beall at (979) 417-1675 / Ashley Mulligan at (979) 418-4183 \nDay/Time: Sundays @ 6:00pm\nLocation: Willow Church
URL:https://willowchurch.com/event/college-young-adult-small-group/
LOCATION:Willow Church\, 200 Willow Drive\, Lake Jackson\, TX\, 77566\, United States
END:VEVENT
BEGIN:VEVENT
DTSTART;TZID=America/Chicago:20210808T140000
DTEND;TZID=America/Chicago:20210808T190000
DTSTAMP:20260422T030441
CREATED:20210413T150040Z
LAST-MODIFIED:20210517T205441Z
UID:8724-1628431200-1628449200@willowchurch.com
SUMMARY:Summer Nights: Beach Night
DESCRIPTION:
URL:https://willowchurch.com/event/summer-nights-beach-night/
LOCATION:Quintana Beach Pavilion\, 898 2nd St\, Quintana\, TX\, 77541\, United States
END:VEVENT
BEGIN:VEVENT
DTSTART;TZID=America/Chicago:20200315T180000
DTEND;TZID=America/Chicago:20200315T200000
DTSTAMP:20260422T030441
CREATED:20210310T063023Z
LAST-MODIFIED:20210317T232439Z
UID:7988-1584295200-1584302400@willowchurch.com
SUMMARY:College & Young Adult Small Group
DESCRIPTION:We meet to seek God and create community to help strengthen our walk and relationship with the Lord. We seek to live a life of loving people like Jesus and relying on Holy Spirit to guide us into the miraculous. \nIf you’re interested\, text or call Alissa Beall at (979) 417-1675 / Ashley Mulligan at (979) 418-4183 \nDay/Time: Sundays @ 6:00pm\nLocation: Willow Church
URL:https://willowchurch.com/event/college-young-adult-small-group/
LOCATION:Willow Church\, 200 Willow Drive\, Lake Jackson\, TX\, 77566\, United States
END:VEVENT
BEGIN:VEVENT
DTSTART;VALUE=DATE:20210412
DTEND;VALUE=DATE:20210413
DTSTAMP:20260422T030441
CREATED:20210401T200026Z
LAST-MODIFIED:20210401T200026Z
UID:8702-1618185600-1618271999@willowchurch.com
SUMMARY:1 Church 1 Day - Event
DESCRIPTION:
URL:https://willowchurch.com/event/1-church-1-day-event/
LOCATION:TX
END:VEVENT
BEGIN:VEVENT
DTSTART;TZID=America/Chicago:20200315T180000
DTEND;TZID=America/Chicago:20200315T200000
DTSTAMP:20260422T030441
CREATED:20210310T063023Z
LAST-MODIFIED:20210317T232439Z
UID:7988-1584295200-1584302400@willowchurch.com
SUMMARY:College & Young Adult Small Group
DESCRIPTION:We meet to seek God and create community to help strengthen our walk and relationship with the Lord. We seek to live a life of loving people like Jesus and relying on Holy Spirit to guide us into the miraculous. \nIf you’re interested\, text or call Alissa Beall at (979) 417-1675 / Ashley Mulligan at (979) 418-4183 \nDay/Time: Sundays @ 6:00pm\nLocation: Willow Church
URL:https://willowchurch.com/event/college-young-adult-small-group/
LOCATION:Willow Church\, 200 Willow Drive\, Lake Jackson\, TX\, 77566\, United States
END:VEVENT
BEGIN:VEVENT
DTSTART;TZID=America/Chicago:20210818T183000
DTEND;TZID=America/Chicago:20210818T200000
DTSTAMP:20260422T030441
CREATED:20201020T213946Z
LAST-MODIFIED:20211110T212933Z
UID:8835-1629311400-1629316800@willowchurch.com
SUMMARY:Wednesday Night Live\, 6:30pm
DESCRIPTION:Live from Willow Church – it’s Wednesday Night!!! \nHello Willow Family\, we are providing you an opportunity to connect in person and on-line through a new weekly Small Group – Wednesday Night Live! \nWNL is a “plug and play” group where you can join in whatever way you are comfortable and whenever you are available. We will explore God’s Word and encourage each other through prayer and support.  \nLessons will be built around a scripture passage or topic\, with a deeper look at the Word itself and a series of interactive group questions to facilitate discussion and personal application. \nWhen: Every Wednesday night (starting August 11th) \nWhere: 6:30 PM in Willow Church Bldg B \nFor more information\, contact Cliff or Wendi Moore at +1 (979) 235-7103.
URL:https://willowchurch.com/event/wednesday-night-live-2021-08-18/
LOCATION:Willow Church\, 200 Willow Drive\, Lake Jackson\, TX\, 77566\, United States
ATTACH;FMTTYPE=image/jpeg:https://willowchurch.com/wp-content/uploads/2021/08/Wedneday-Night-Live-at-Willow-Church.jpg
END:VEVENT
BEGIN:VEVENT
DTSTART;TZID=America/Chicago:20210818T183000
DTEND;TZID=America/Chicago:20210818T200000
DTSTAMP:20260422T030441
CREATED:20210713T162901Z
LAST-MODIFIED:20210713T162901Z
UID:8856-1629311400-1629316800@willowchurch.com
SUMMARY:Youth Party Night
DESCRIPTION:Join Overflow Youth on August 18th from 6:30-8:00pm!
URL:https://willowchurch.com/event/youth-party-night/
LOCATION:Willow Church\, 200 Willow Drive\, Lake Jackson\, TX\, 77566\, United States
END:VEVENT
BEGIN:VEVENT
DTSTART;TZID=America/Chicago:20200315T180000
DTEND;TZID=America/Chicago:20200315T200000
DTSTAMP:20260422T030441
CREATED:20210310T063023Z
LAST-MODIFIED:20210317T232439Z
UID:7988-1584295200-1584302400@willowchurch.com
SUMMARY:College & Young Adult Small Group
DESCRIPTION:We meet to seek God and create community to help strengthen our walk and relationship with the Lord. We seek to live a life of loving people like Jesus and relying on Holy Spirit to guide us into the miraculous. \nIf you’re interested\, text or call Alissa Beall at (979) 417-1675 / Ashley Mulligan at (979) 418-4183 \nDay/Time: Sundays @ 6:00pm\nLocation: Willow Church
URL:https://willowchurch.com/event/college-young-adult-small-group/
LOCATION:Willow Church\, 200 Willow Drive\, Lake Jackson\, TX\, 77566\, United States
END:VEVENT
BEGIN:VEVENT
DTSTART;VALUE=DATE:20210825
DTEND;VALUE=DATE:20210826
DTSTAMP:20260422T030441
CREATED:20210713T162704Z
LAST-MODIFIED:20210713T162704Z
UID:8854-1629849600-1629935999@willowchurch.com
SUMMARY:Willow Kids Splash Party
DESCRIPTION:
URL:https://willowchurch.com/event/willow-kids-splash-party/
LOCATION:Willow Church\, 200 Willow Drive\, Lake Jackson\, TX\, 77566\, United States
END:VEVENT
BEGIN:VEVENT
DTSTART;TZID=America/Chicago:20210818T183000
DTEND;TZID=America/Chicago:20210818T200000
DTSTAMP:20260422T030441
CREATED:20201020T213946Z
LAST-MODIFIED:20211110T212933Z
UID:8835-1629311400-1629316800@willowchurch.com
SUMMARY:Wednesday Night Live\, 6:30pm
DESCRIPTION:Live from Willow Church – it’s Wednesday Night!!! \nHello Willow Family\, we are providing you an opportunity to connect in person and on-line through a new weekly Small Group – Wednesday Night Live! \nWNL is a “plug and play” group where you can join in whatever way you are comfortable and whenever you are available. We will explore God’s Word and encourage each other through prayer and support.  \nLessons will be built around a scripture passage or topic\, with a deeper look at the Word itself and a series of interactive group questions to facilitate discussion and personal application. \nWhen: Every Wednesday night (starting August 11th) \nWhere: 6:30 PM in Willow Church Bldg B \nFor more information\, contact Cliff or Wendi Moore at +1 (979) 235-7103.
URL:https://willowchurch.com/event/wednesday-night-live-2021-08-18/
LOCATION:Willow Church\, 200 Willow Drive\, Lake Jackson\, TX\, 77566\, United States
ATTACH;FMTTYPE=image/jpeg:https://willowchurch.com/wp-content/uploads/2021/08/Wedneday-Night-Live-at-Willow-Church.jpg
END:VEVENT
BEGIN:VEVENT
DTSTART;TZID=America/Chicago:20200315T180000
DTEND;TZID=America/Chicago:20200315T200000
DTSTAMP:20260422T030441
CREATED:20210310T063023Z
LAST-MODIFIED:20210317T232439Z
UID:7988-1584295200-1584302400@willowchurch.com
SUMMARY:College & Young Adult Small Group
DESCRIPTION:We meet to seek God and create community to help strengthen our walk and relationship with the Lord. We seek to live a life of loving people like Jesus and relying on Holy Spirit to guide us into the miraculous. \nIf you’re interested\, text or call Alissa Beall at (979) 417-1675 / Ashley Mulligan at (979) 418-4183 \nDay/Time: Sundays @ 6:00pm\nLocation: Willow Church
URL:https://willowchurch.com/event/college-young-adult-small-group/
LOCATION:Willow Church\, 200 Willow Drive\, Lake Jackson\, TX\, 77566\, United States
END:VEVENT
END:VCALENDAR