BEGIN:VCALENDAR
VERSION:2.0
PRODID:-//Willow Church - ECPv6.15.14//NONSGML v1.0//EN
CALSCALE:GREGORIAN
METHOD:PUBLISH
X-ORIGINAL-URL:https://willowchurch.com
X-WR-CALDESC:Events for Willow Church
REFRESH-INTERVAL;VALUE=DURATION:PT1H
X-Robots-Tag:noindex
X-PUBLISHED-TTL:PT1H
BEGIN:VTIMEZONE
TZID:America/Chicago
BEGIN:DAYLIGHT
TZOFFSETFROM:-0600
TZOFFSETTO:-0500
TZNAME:CDT
DTSTART:20190310T080000
END:DAYLIGHT
BEGIN:STANDARD
TZOFFSETFROM:-0500
TZOFFSETTO:-0600
TZNAME:CST
DTSTART:20191103T070000
END:STANDARD
BEGIN:DAYLIGHT
TZOFFSETFROM:-0600
TZOFFSETTO:-0500
TZNAME:CDT
DTSTART:20200308T080000
END:DAYLIGHT
BEGIN:STANDARD
TZOFFSETFROM:-0500
TZOFFSETTO:-0600
TZNAME:CST
DTSTART:20201101T070000
END:STANDARD
BEGIN:DAYLIGHT
TZOFFSETFROM:-0600
TZOFFSETTO:-0500
TZNAME:CDT
DTSTART:20210314T080000
END:DAYLIGHT
BEGIN:STANDARD
TZOFFSETFROM:-0500
TZOFFSETTO:-0600
TZNAME:CST
DTSTART:20211107T070000
END:STANDARD
BEGIN:DAYLIGHT
TZOFFSETFROM:-0600
TZOFFSETTO:-0500
TZNAME:CDT
DTSTART:20220313T080000
END:DAYLIGHT
BEGIN:STANDARD
TZOFFSETFROM:-0500
TZOFFSETTO:-0600
TZNAME:CST
DTSTART:20221106T070000
END:STANDARD
END:VTIMEZONE
BEGIN:VEVENT
DTSTART;VALUE=DATE:20210704
DTEND;VALUE=DATE:20210705
DTSTAMP:20260421T215833
CREATED:20210413T150141Z
LAST-MODIFIED:20210413T150141Z
UID:8729-1625356800-1625443199@willowchurch.com
SUMMARY:Independence Day
DESCRIPTION:
URL:https://willowchurch.com/event/independence-day/
LOCATION:TX
END:VEVENT
BEGIN:VEVENT
DTSTART;TZID=America/Chicago:20210704T103000
DTEND;TZID=America/Chicago:20210704T120000
DTSTAMP:20260421T215833
CREATED:20200516T225836Z
LAST-MODIFIED:20210616T150614Z
UID:7685-1625394600-1625400000@willowchurch.com
SUMMARY:Family Worship Service (no Sunday School or Powershouse)
DESCRIPTION:10:30am – Open for Worship\, in-person and online\, Sundays 10:30am. Visit our Youtube Channel to watch online.
URL:https://willowchurch.com/event/family-worship-service-no-sunday-school-or-powershouse/
LOCATION:Willow Church\, 200 Willow Drive\, Lake Jackson\, TX\, 77566\, United States
END:VEVENT
BEGIN:VEVENT
DTSTART;TZID=America/Chicago:20200315T180000
DTEND;TZID=America/Chicago:20200315T200000
DTSTAMP:20260421T215833
CREATED:20210310T063023Z
LAST-MODIFIED:20210317T232439Z
UID:7988-1584295200-1584302400@willowchurch.com
SUMMARY:College & Young Adult Small Group
DESCRIPTION:We meet to seek God and create community to help strengthen our walk and relationship with the Lord. We seek to live a life of loving people like Jesus and relying on Holy Spirit to guide us into the miraculous. \nIf you’re interested\, text or call Alissa Beall at (979) 417-1675 / Ashley Mulligan at (979) 418-4183 \nDay/Time: Sundays @ 6:00pm\nLocation: Willow Church
URL:https://willowchurch.com/event/college-young-adult-small-group/
LOCATION:Willow Church\, 200 Willow Drive\, Lake Jackson\, TX\, 77566\, United States
END:VEVENT
BEGIN:VEVENT
DTSTART;TZID=America/Chicago:20200315T180000
DTEND;TZID=America/Chicago:20200315T200000
DTSTAMP:20260421T215833
CREATED:20210310T063023Z
LAST-MODIFIED:20210317T232439Z
UID:7988-1584295200-1584302400@willowchurch.com
SUMMARY:College & Young Adult Small Group
DESCRIPTION:We meet to seek God and create community to help strengthen our walk and relationship with the Lord. We seek to live a life of loving people like Jesus and relying on Holy Spirit to guide us into the miraculous. \nIf you’re interested\, text or call Alissa Beall at (979) 417-1675 / Ashley Mulligan at (979) 418-4183 \nDay/Time: Sundays @ 6:00pm\nLocation: Willow Church
URL:https://willowchurch.com/event/college-young-adult-small-group/
LOCATION:Willow Church\, 200 Willow Drive\, Lake Jackson\, TX\, 77566\, United States
END:VEVENT
BEGIN:VEVENT
DTSTART;TZID=America/Chicago:20210711T180000
DTEND;TZID=America/Chicago:20210711T200000
DTSTAMP:20260421T215833
CREATED:20210413T150040Z
LAST-MODIFIED:20210707T161006Z
UID:8723-1626026400-1626033600@willowchurch.com
SUMMARY:Summer Nights: Worship Night
DESCRIPTION:
URL:https://willowchurch.com/event/summer-nights-worship-night/
LOCATION:Willow Church\, 200 Willow Drive\, Lake Jackson\, TX\, 77566\, United States
END:VEVENT
BEGIN:VEVENT
DTSTART;VALUE=DATE:20210412
DTEND;VALUE=DATE:20210413
DTSTAMP:20260421T215833
CREATED:20210401T200026Z
LAST-MODIFIED:20210401T200026Z
UID:8702-1618185600-1618271999@willowchurch.com
SUMMARY:1 Church 1 Day - Event
DESCRIPTION:
URL:https://willowchurch.com/event/1-church-1-day-event/
LOCATION:TX
END:VEVENT
BEGIN:VEVENT
DTSTART;TZID=America/Chicago:20210718T120000
DTEND;TZID=America/Chicago:20210718T140000
DTSTAMP:20260421T215833
CREATED:20210401T200234Z
LAST-MODIFIED:20210713T162251Z
UID:8713-1626609600-1626616800@willowchurch.com
SUMMARY:Business Meeting (after service)
DESCRIPTION:Business Meeting July 18th directly after Sunday morning service. \nChildcare and a lunch buffet provided.
URL:https://willowchurch.com/event/business-meeting/
LOCATION:Willow Church\, 200 Willow Drive\, Lake Jackson\, TX\, 77566\, United States
END:VEVENT
BEGIN:VEVENT
DTSTART;TZID=America/Chicago:20200315T180000
DTEND;TZID=America/Chicago:20200315T200000
DTSTAMP:20260421T215833
CREATED:20210310T063023Z
LAST-MODIFIED:20210317T232439Z
UID:7988-1584295200-1584302400@willowchurch.com
SUMMARY:College & Young Adult Small Group
DESCRIPTION:We meet to seek God and create community to help strengthen our walk and relationship with the Lord. We seek to live a life of loving people like Jesus and relying on Holy Spirit to guide us into the miraculous. \nIf you’re interested\, text or call Alissa Beall at (979) 417-1675 / Ashley Mulligan at (979) 418-4183 \nDay/Time: Sundays @ 6:00pm\nLocation: Willow Church
URL:https://willowchurch.com/event/college-young-adult-small-group/
LOCATION:Willow Church\, 200 Willow Drive\, Lake Jackson\, TX\, 77566\, United States
END:VEVENT
BEGIN:VEVENT
DTSTART;TZID=America/Chicago:20200315T180000
DTEND;TZID=America/Chicago:20200315T200000
DTSTAMP:20260421T215833
CREATED:20210310T063023Z
LAST-MODIFIED:20210317T232439Z
UID:7988-1584295200-1584302400@willowchurch.com
SUMMARY:College & Young Adult Small Group
DESCRIPTION:We meet to seek God and create community to help strengthen our walk and relationship with the Lord. We seek to live a life of loving people like Jesus and relying on Holy Spirit to guide us into the miraculous. \nIf you’re interested\, text or call Alissa Beall at (979) 417-1675 / Ashley Mulligan at (979) 418-4183 \nDay/Time: Sundays @ 6:00pm\nLocation: Willow Church
URL:https://willowchurch.com/event/college-young-adult-small-group/
LOCATION:Willow Church\, 200 Willow Drive\, Lake Jackson\, TX\, 77566\, United States
END:VEVENT
END:VCALENDAR