BEGIN:VCALENDAR
VERSION:2.0
PRODID:-//Willow Church - ECPv6.15.14//NONSGML v1.0//EN
CALSCALE:GREGORIAN
METHOD:PUBLISH
X-ORIGINAL-URL:https://willowchurch.com
X-WR-CALDESC:Events for Willow Church
REFRESH-INTERVAL;VALUE=DURATION:PT1H
X-Robots-Tag:noindex
X-PUBLISHED-TTL:PT1H
BEGIN:VTIMEZONE
TZID:America/Chicago
BEGIN:DAYLIGHT
TZOFFSETFROM:-0600
TZOFFSETTO:-0500
TZNAME:CDT
DTSTART:20190310T080000
END:DAYLIGHT
BEGIN:STANDARD
TZOFFSETFROM:-0500
TZOFFSETTO:-0600
TZNAME:CST
DTSTART:20191103T070000
END:STANDARD
BEGIN:DAYLIGHT
TZOFFSETFROM:-0600
TZOFFSETTO:-0500
TZNAME:CDT
DTSTART:20200308T080000
END:DAYLIGHT
BEGIN:STANDARD
TZOFFSETFROM:-0500
TZOFFSETTO:-0600
TZNAME:CST
DTSTART:20201101T070000
END:STANDARD
BEGIN:DAYLIGHT
TZOFFSETFROM:-0600
TZOFFSETTO:-0500
TZNAME:CDT
DTSTART:20210314T080000
END:DAYLIGHT
BEGIN:STANDARD
TZOFFSETFROM:-0500
TZOFFSETTO:-0600
TZNAME:CST
DTSTART:20211107T070000
END:STANDARD
BEGIN:DAYLIGHT
TZOFFSETFROM:-0600
TZOFFSETTO:-0500
TZNAME:CDT
DTSTART:20220313T080000
END:DAYLIGHT
BEGIN:STANDARD
TZOFFSETFROM:-0500
TZOFFSETTO:-0600
TZNAME:CST
DTSTART:20221106T070000
END:STANDARD
END:VTIMEZONE
BEGIN:VEVENT
DTSTART;VALUE=DATE:20210602
DTEND;VALUE=DATE:20210605
DTSTAMP:20260421T215831
CREATED:20210401T195207Z
LAST-MODIFIED:20210401T195436Z
UID:8694-1622592000-1622851199@willowchurch.com
SUMMARY:Youth Mission Week
DESCRIPTION:Contact Alissa Beaal for information: +1 (979) 417-1675
URL:https://willowchurch.com/event/youth-mission-week/
LOCATION:TX
END:VEVENT
BEGIN:VEVENT
DTSTART;TZID=America/Chicago:20200315T180000
DTEND;TZID=America/Chicago:20200315T200000
DTSTAMP:20260421T215831
CREATED:20210310T063023Z
LAST-MODIFIED:20210317T232439Z
UID:7988-1584295200-1584302400@willowchurch.com
SUMMARY:College & Young Adult Small Group
DESCRIPTION:We meet to seek God and create community to help strengthen our walk and relationship with the Lord. We seek to live a life of loving people like Jesus and relying on Holy Spirit to guide us into the miraculous. \nIf you’re interested\, text or call Alissa Beall at (979) 417-1675 / Ashley Mulligan at (979) 418-4183 \nDay/Time: Sundays @ 6:00pm\nLocation: Willow Church
URL:https://willowchurch.com/event/college-young-adult-small-group/
LOCATION:Willow Church\, 200 Willow Drive\, Lake Jackson\, TX\, 77566\, United States
END:VEVENT
BEGIN:VEVENT
DTSTART;TZID=America/Chicago:20210606T180000
DTEND;TZID=America/Chicago:20210606T210000
DTSTAMP:20260421T215831
CREATED:20210413T145911Z
LAST-MODIFIED:20210517T172834Z
UID:8721-1623002400-1623013200@willowchurch.com
SUMMARY:Summer Nights: Game Night
DESCRIPTION:
URL:https://willowchurch.com/event/summer-nights-game-night/
LOCATION:Willow Church\, 200 Willow Drive\, Lake Jackson\, TX\, 77566\, United States
END:VEVENT
BEGIN:VEVENT
DTSTART;TZID=America/Chicago:20200315T180000
DTEND;TZID=America/Chicago:20200315T200000
DTSTAMP:20260421T215831
CREATED:20210310T063023Z
LAST-MODIFIED:20210317T232439Z
UID:7988-1584295200-1584302400@willowchurch.com
SUMMARY:College & Young Adult Small Group
DESCRIPTION:We meet to seek God and create community to help strengthen our walk and relationship with the Lord. We seek to live a life of loving people like Jesus and relying on Holy Spirit to guide us into the miraculous. \nIf you’re interested\, text or call Alissa Beall at (979) 417-1675 / Ashley Mulligan at (979) 418-4183 \nDay/Time: Sundays @ 6:00pm\nLocation: Willow Church
URL:https://willowchurch.com/event/college-young-adult-small-group/
LOCATION:Willow Church\, 200 Willow Drive\, Lake Jackson\, TX\, 77566\, United States
END:VEVENT
BEGIN:VEVENT
DTSTART;VALUE=DATE:20210412
DTEND;VALUE=DATE:20210413
DTSTAMP:20260421T215831
CREATED:20210401T200026Z
LAST-MODIFIED:20210401T200026Z
UID:8702-1618185600-1618271999@willowchurch.com
SUMMARY:1 Church 1 Day - Event
DESCRIPTION:
URL:https://willowchurch.com/event/1-church-1-day-event/
LOCATION:TX
END:VEVENT
BEGIN:VEVENT
DTSTART;TZID=America/Chicago:20200315T180000
DTEND;TZID=America/Chicago:20200315T200000
DTSTAMP:20260421T215831
CREATED:20210310T063023Z
LAST-MODIFIED:20210317T232439Z
UID:7988-1584295200-1584302400@willowchurch.com
SUMMARY:College & Young Adult Small Group
DESCRIPTION:We meet to seek God and create community to help strengthen our walk and relationship with the Lord. We seek to live a life of loving people like Jesus and relying on Holy Spirit to guide us into the miraculous. \nIf you’re interested\, text or call Alissa Beall at (979) 417-1675 / Ashley Mulligan at (979) 418-4183 \nDay/Time: Sundays @ 6:00pm\nLocation: Willow Church
URL:https://willowchurch.com/event/college-young-adult-small-group/
LOCATION:Willow Church\, 200 Willow Drive\, Lake Jackson\, TX\, 77566\, United States
END:VEVENT
BEGIN:VEVENT
DTSTART;VALUE=DATE:20210621
DTEND;VALUE=DATE:20210625
DTSTAMP:20260421T215831
CREATED:20210616T150449Z
LAST-MODIFIED:20210616T150449Z
UID:8806-1624233600-1624579199@willowchurch.com
SUMMARY:Children's Camp
DESCRIPTION:For more information\, please contact Joyce Boyle\, joyce@willowchurch.com.
URL:https://willowchurch.com/event/childrens-camp/
LOCATION:TX
END:VEVENT
BEGIN:VEVENT
DTSTART;TZID=America/Chicago:20200315T180000
DTEND;TZID=America/Chicago:20200315T200000
DTSTAMP:20260421T215831
CREATED:20210310T063023Z
LAST-MODIFIED:20210317T232439Z
UID:7988-1584295200-1584302400@willowchurch.com
SUMMARY:College & Young Adult Small Group
DESCRIPTION:We meet to seek God and create community to help strengthen our walk and relationship with the Lord. We seek to live a life of loving people like Jesus and relying on Holy Spirit to guide us into the miraculous. \nIf you’re interested\, text or call Alissa Beall at (979) 417-1675 / Ashley Mulligan at (979) 418-4183 \nDay/Time: Sundays @ 6:00pm\nLocation: Willow Church
URL:https://willowchurch.com/event/college-young-adult-small-group/
LOCATION:Willow Church\, 200 Willow Drive\, Lake Jackson\, TX\, 77566\, United States
END:VEVENT
END:VCALENDAR