BEGIN:VCALENDAR
VERSION:2.0
PRODID:-//Willow Church - ECPv6.15.14//NONSGML v1.0//EN
CALSCALE:GREGORIAN
METHOD:PUBLISH
X-WR-CALNAME:Willow Church
X-ORIGINAL-URL:https://willowchurch.com
X-WR-CALDESC:Events for Willow Church
REFRESH-INTERVAL;VALUE=DURATION:PT1H
X-Robots-Tag:noindex
X-PUBLISHED-TTL:PT1H
BEGIN:VTIMEZONE
TZID:America/Chicago
BEGIN:DAYLIGHT
TZOFFSETFROM:-0600
TZOFFSETTO:-0500
TZNAME:CDT
DTSTART:20190310T080000
END:DAYLIGHT
BEGIN:STANDARD
TZOFFSETFROM:-0500
TZOFFSETTO:-0600
TZNAME:CST
DTSTART:20191103T070000
END:STANDARD
BEGIN:DAYLIGHT
TZOFFSETFROM:-0600
TZOFFSETTO:-0500
TZNAME:CDT
DTSTART:20200308T080000
END:DAYLIGHT
BEGIN:STANDARD
TZOFFSETFROM:-0500
TZOFFSETTO:-0600
TZNAME:CST
DTSTART:20201101T070000
END:STANDARD
BEGIN:DAYLIGHT
TZOFFSETFROM:-0600
TZOFFSETTO:-0500
TZNAME:CDT
DTSTART:20210314T080000
END:DAYLIGHT
BEGIN:STANDARD
TZOFFSETFROM:-0500
TZOFFSETTO:-0600
TZNAME:CST
DTSTART:20211107T070000
END:STANDARD
BEGIN:DAYLIGHT
TZOFFSETFROM:-0600
TZOFFSETTO:-0500
TZNAME:CDT
DTSTART:20220313T080000
END:DAYLIGHT
BEGIN:STANDARD
TZOFFSETFROM:-0500
TZOFFSETTO:-0600
TZNAME:CST
DTSTART:20221106T070000
END:STANDARD
END:VTIMEZONE
BEGIN:VEVENT
DTSTART;TZID=America/Chicago:20200315T180000
DTEND;TZID=America/Chicago:20200315T200000
DTSTAMP:20260421T215826
CREATED:20210310T063023Z
LAST-MODIFIED:20210317T232439Z
UID:7988-1584295200-1584302400@willowchurch.com
SUMMARY:College & Young Adult Small Group
DESCRIPTION:We meet to seek God and create community to help strengthen our walk and relationship with the Lord. We seek to live a life of loving people like Jesus and relying on Holy Spirit to guide us into the miraculous. \nIf you’re interested\, text or call Alissa Beall at (979) 417-1675 / Ashley Mulligan at (979) 418-4183 \nDay/Time: Sundays @ 6:00pm\nLocation: Willow Church
URL:https://willowchurch.com/event/college-young-adult-small-group/
LOCATION:Willow Church\, 200 Willow Drive\, Lake Jackson\, TX\, 77566\, United States
END:VEVENT
BEGIN:VEVENT
DTSTART;TZID=America/Chicago:20210317T183000
DTEND;TZID=America/Chicago:20210317T200000
DTSTAMP:20260421T215826
CREATED:20210301T214207Z
LAST-MODIFIED:20210401T195013Z
UID:7962-1616005800-1616011200@willowchurch.com
SUMMARY:A Faith that Works when Life Doesn’t: Men’s Bible Study
DESCRIPTION:Join us as we watch and discuss Rick Warren’s series A Faith that Works when Life Doesn’t. \nDay/Time: 6:30pm on Wednesday nights starting March 17th.\nLocation: Willow Church\, The room upstairs by the children’s area.
URL:https://willowchurch.com/event/mens-group-bible-study/
LOCATION:Willow Church\, 200 Willow Drive\, Lake Jackson\, TX\, 77566\, United States
END:VEVENT
BEGIN:VEVENT
DTSTART;TZID=America/Chicago:20210509T103000
DTEND;TZID=America/Chicago:20210509T120000
DTSTAMP:20260421T215826
CREATED:20200516T225836Z
LAST-MODIFIED:20210401T195826Z
UID:7677-1620556200-1620561600@willowchurch.com
SUMMARY:Sunday Worship & ABF’s + Baby Dedications
DESCRIPTION:9:30 am – Adult Bible Fellowships & Children’s Sunday School\n9:30 am – Emotionally Healthy Spirituality Class (from April 4 – May 16)\n10:30am – Open for Worship\, in-person and online\, Sundays 10:30am. Visit our Youtube Channel to watch online.\nBaby Dedications during service
URL:https://willowchurch.com/event/sunday-morning-service-2021-05-09/
LOCATION:Willow Church\, 200 Willow Drive\, Lake Jackson\, TX\, 77566\, United States
END:VEVENT
BEGIN:VEVENT
DTSTART;TZID=America/Chicago:20200315T180000
DTEND;TZID=America/Chicago:20200315T200000
DTSTAMP:20260421T215826
CREATED:20210310T063023Z
LAST-MODIFIED:20210317T232439Z
UID:7988-1584295200-1584302400@willowchurch.com
SUMMARY:College & Young Adult Small Group
DESCRIPTION:We meet to seek God and create community to help strengthen our walk and relationship with the Lord. We seek to live a life of loving people like Jesus and relying on Holy Spirit to guide us into the miraculous. \nIf you’re interested\, text or call Alissa Beall at (979) 417-1675 / Ashley Mulligan at (979) 418-4183 \nDay/Time: Sundays @ 6:00pm\nLocation: Willow Church
URL:https://willowchurch.com/event/college-young-adult-small-group/
LOCATION:Willow Church\, 200 Willow Drive\, Lake Jackson\, TX\, 77566\, United States
END:VEVENT
BEGIN:VEVENT
DTSTART;VALUE=DATE:20210412
DTEND;VALUE=DATE:20210413
DTSTAMP:20260421T215826
CREATED:20210401T200026Z
LAST-MODIFIED:20210401T200026Z
UID:8702-1618185600-1618271999@willowchurch.com
SUMMARY:1 Church 1 Day - Event
DESCRIPTION:
URL:https://willowchurch.com/event/1-church-1-day-event/
LOCATION:TX
END:VEVENT
BEGIN:VEVENT
DTSTART;TZID=America/Chicago:20200315T180000
DTEND;TZID=America/Chicago:20200315T200000
DTSTAMP:20260421T215826
CREATED:20210310T063023Z
LAST-MODIFIED:20210317T232439Z
UID:7988-1584295200-1584302400@willowchurch.com
SUMMARY:College & Young Adult Small Group
DESCRIPTION:We meet to seek God and create community to help strengthen our walk and relationship with the Lord. We seek to live a life of loving people like Jesus and relying on Holy Spirit to guide us into the miraculous. \nIf you’re interested\, text or call Alissa Beall at (979) 417-1675 / Ashley Mulligan at (979) 418-4183 \nDay/Time: Sundays @ 6:00pm\nLocation: Willow Church
URL:https://willowchurch.com/event/college-young-adult-small-group/
LOCATION:Willow Church\, 200 Willow Drive\, Lake Jackson\, TX\, 77566\, United States
END:VEVENT
BEGIN:VEVENT
DTSTART;TZID=America/Chicago:20200315T180000
DTEND;TZID=America/Chicago:20200315T200000
DTSTAMP:20260421T215826
CREATED:20210310T063023Z
LAST-MODIFIED:20210317T232439Z
UID:7988-1584295200-1584302400@willowchurch.com
SUMMARY:College & Young Adult Small Group
DESCRIPTION:We meet to seek God and create community to help strengthen our walk and relationship with the Lord. We seek to live a life of loving people like Jesus and relying on Holy Spirit to guide us into the miraculous. \nIf you’re interested\, text or call Alissa Beall at (979) 417-1675 / Ashley Mulligan at (979) 418-4183 \nDay/Time: Sundays @ 6:00pm\nLocation: Willow Church
URL:https://willowchurch.com/event/college-young-adult-small-group/
LOCATION:Willow Church\, 200 Willow Drive\, Lake Jackson\, TX\, 77566\, United States
END:VEVENT
BEGIN:VEVENT
DTSTART;TZID=America/Chicago:20200315T180000
DTEND;TZID=America/Chicago:20200315T200000
DTSTAMP:20260421T215826
CREATED:20210310T063023Z
LAST-MODIFIED:20210317T232439Z
UID:7988-1584295200-1584302400@willowchurch.com
SUMMARY:College & Young Adult Small Group
DESCRIPTION:We meet to seek God and create community to help strengthen our walk and relationship with the Lord. We seek to live a life of loving people like Jesus and relying on Holy Spirit to guide us into the miraculous. \nIf you’re interested\, text or call Alissa Beall at (979) 417-1675 / Ashley Mulligan at (979) 418-4183 \nDay/Time: Sundays @ 6:00pm\nLocation: Willow Church
URL:https://willowchurch.com/event/college-young-adult-small-group/
LOCATION:Willow Church\, 200 Willow Drive\, Lake Jackson\, TX\, 77566\, United States
END:VEVENT
BEGIN:VEVENT
DTSTART;VALUE=DATE:20210531
DTEND;VALUE=DATE:20210601
DTSTAMP:20260421T215826
CREATED:20210413T150053Z
LAST-MODIFIED:20210413T150053Z
UID:8725-1622419200-1622505599@willowchurch.com
SUMMARY:Memorial Day / Office Closed
DESCRIPTION:
URL:https://willowchurch.com/event/memorial-day-office-closed/
LOCATION:TX
END:VEVENT
END:VCALENDAR