BEGIN:VCALENDAR
VERSION:2.0
PRODID:-//Willow Church - ECPv6.15.14//NONSGML v1.0//EN
CALSCALE:GREGORIAN
METHOD:PUBLISH
X-WR-CALNAME:Willow Church
X-ORIGINAL-URL:https://willowchurch.com
X-WR-CALDESC:Events for Willow Church
REFRESH-INTERVAL;VALUE=DURATION:PT1H
X-Robots-Tag:noindex
X-PUBLISHED-TTL:PT1H
BEGIN:VTIMEZONE
TZID:America/Chicago
BEGIN:DAYLIGHT
TZOFFSETFROM:-0600
TZOFFSETTO:-0500
TZNAME:CDT
DTSTART:20180311T080000
END:DAYLIGHT
BEGIN:STANDARD
TZOFFSETFROM:-0500
TZOFFSETTO:-0600
TZNAME:CST
DTSTART:20181104T070000
END:STANDARD
BEGIN:DAYLIGHT
TZOFFSETFROM:-0600
TZOFFSETTO:-0500
TZNAME:CDT
DTSTART:20190310T080000
END:DAYLIGHT
BEGIN:STANDARD
TZOFFSETFROM:-0500
TZOFFSETTO:-0600
TZNAME:CST
DTSTART:20191103T070000
END:STANDARD
BEGIN:DAYLIGHT
TZOFFSETFROM:-0600
TZOFFSETTO:-0500
TZNAME:CDT
DTSTART:20200308T080000
END:DAYLIGHT
BEGIN:STANDARD
TZOFFSETFROM:-0500
TZOFFSETTO:-0600
TZNAME:CST
DTSTART:20201101T070000
END:STANDARD
END:VTIMEZONE
BEGIN:VEVENT
DTSTART;TZID=America/Chicago:20191125T100000
DTEND;TZID=America/Chicago:20191125T120000
DTSTAMP:20260421T212338
CREATED:20191122T161029Z
LAST-MODIFIED:20191122T173142Z
UID:6466-1574676000-1574683200@willowchurch.com
SUMMARY:Pastor’s Class
DESCRIPTION:Details: Sundays at 10 AM\, through December 15 in Multi Purpose Room A. \nCome grow in your faith and connect with other Willow attendees. \nChildcare provided. \n 
URL:https://willowchurch.com/event/pastors-class/
LOCATION:Willow Church\, 200 Willow Drive\, Lake Jackson\, TX\, 77566\, United States
ATTACH;FMTTYPE=image/jpeg:https://willowchurch.com/wp-content/uploads/2019/11/pastors-class-min.jpg
END:VEVENT
BEGIN:VEVENT
DTSTART;TZID=America/Chicago:20191201T180000
DTEND;TZID=America/Chicago:20191201T200000
DTSTAMP:20260421T212338
CREATED:20191004T194545Z
LAST-MODIFIED:20191004T194545Z
UID:6008-1575223200-1575230400@willowchurch.com
SUMMARY:The Way of Life by Bill Johnson - Week 8
DESCRIPTION:Day/Time: Sundays @ 6:30pm\nLocation: Willow Church\nStart Date: October 13\, 2019 – December 1\, 2019  \nWe need to create a culture where the things of God can thrive. In this eight week study\, you will discover what it means to partner with His Presence and see the things not of God bow their knee to the name of Jesus. Matthew 6\, “on earth as it is in heaven\,” is the main theme we are working from.  The kingdom of this world was made to be like the Kingdom of Heaven. Heaven on earth is God’s dream! Our prayers are powerful and give occasion for God’s heart to become the overwhelming influence over this world! This course was created to help you encounter and steward His Presence in new ways.
URL:https://willowchurch.com/event/the-way-of-life-by-bill-johnson-week-8/
LOCATION:Willow Church\, 200 Willow Drive\, Lake Jackson\, TX\, 77566\, United States
ATTACH;FMTTYPE=image/jpeg:https://willowchurch.com/wp-content/uploads/2019/10/way-of-life-event.jpg
END:VEVENT
BEGIN:VEVENT
DTSTART;TZID=America/Chicago:20191125T100000
DTEND;TZID=America/Chicago:20191125T120000
DTSTAMP:20260421T212338
CREATED:20191122T161029Z
LAST-MODIFIED:20191122T173142Z
UID:6466-1574676000-1574683200@willowchurch.com
SUMMARY:Pastor’s Class
DESCRIPTION:Details: Sundays at 10 AM\, through December 15 in Multi Purpose Room A. \nCome grow in your faith and connect with other Willow attendees. \nChildcare provided. \n 
URL:https://willowchurch.com/event/pastors-class/
LOCATION:Willow Church\, 200 Willow Drive\, Lake Jackson\, TX\, 77566\, United States
ATTACH;FMTTYPE=image/jpeg:https://willowchurch.com/wp-content/uploads/2019/11/pastors-class-min.jpg
END:VEVENT
BEGIN:VEVENT
DTSTART;TZID=America/Chicago:20191211T174500
DTEND;TZID=America/Chicago:20191211T184500
DTSTAMP:20260421T212338
CREATED:20191205T060032Z
LAST-MODIFIED:20190911T162654Z
UID:5976-1576086300-1576089900@willowchurch.com
SUMMARY:Wednesday Night Fellowship Meal
DESCRIPTION:Date: December 11th\nMenu: Chili\, rice\, cornbread\, salad\, fruit cobbler\nChef: Mary N (832-922-5985)\nChef: Joyce B (713-825-6711)
URL:https://willowchurch.com/event/wednesday-night-fellowship-meal-december-11/
LOCATION:Willow Church\, 200 Willow Drive\, Lake Jackson\, TX\, 77566\, United States
ATTACH;FMTTYPE=image/jpeg:https://willowchurch.com/wp-content/uploads/2019/09/fellowship-meal.jpg
END:VEVENT
BEGIN:VEVENT
DTSTART;TZID=America/Chicago:20191125T100000
DTEND;TZID=America/Chicago:20191125T120000
DTSTAMP:20260421T212338
CREATED:20191122T161029Z
LAST-MODIFIED:20191122T173142Z
UID:6466-1574676000-1574683200@willowchurch.com
SUMMARY:Pastor’s Class
DESCRIPTION:Details: Sundays at 10 AM\, through December 15 in Multi Purpose Room A. \nCome grow in your faith and connect with other Willow attendees. \nChildcare provided. \n 
URL:https://willowchurch.com/event/pastors-class/
LOCATION:Willow Church\, 200 Willow Drive\, Lake Jackson\, TX\, 77566\, United States
ATTACH;FMTTYPE=image/jpeg:https://willowchurch.com/wp-content/uploads/2019/11/pastors-class-min.jpg
END:VEVENT
BEGIN:VEVENT
DTSTART;TZID=America/Chicago:20191224T190000
DTEND;TZID=America/Chicago:20191224T200000
DTSTAMP:20260421T212338
CREATED:20191122T174806Z
LAST-MODIFIED:20191122T174959Z
UID:6494-1577214000-1577217600@willowchurch.com
SUMMARY:Christmas Eve Candlelight Service
DESCRIPTION:Come experience the true meaning of Christmas and worship the Savior of the world!
URL:https://willowchurch.com/event/christmas-eve-candlelight-service/
LOCATION:Willow Church\, 200 Willow Drive\, Lake Jackson\, TX\, 77566\, United States
ATTACH;FMTTYPE=image/jpeg:https://willowchurch.com/wp-content/uploads/2019/11/candlelight-service-1200.jpg
END:VEVENT
END:VCALENDAR