BEGIN:VCALENDAR
VERSION:2.0
PRODID:-//Willow Church - ECPv6.15.14//NONSGML v1.0//EN
CALSCALE:GREGORIAN
METHOD:PUBLISH
X-ORIGINAL-URL:https://willowchurch.com
X-WR-CALDESC:Events for Willow Church
REFRESH-INTERVAL;VALUE=DURATION:PT1H
X-Robots-Tag:noindex
X-PUBLISHED-TTL:PT1H
BEGIN:VTIMEZONE
TZID:America/Chicago
BEGIN:DAYLIGHT
TZOFFSETFROM:-0600
TZOFFSETTO:-0500
TZNAME:CDT
DTSTART:20210314T080000
END:DAYLIGHT
BEGIN:STANDARD
TZOFFSETFROM:-0500
TZOFFSETTO:-0600
TZNAME:CST
DTSTART:20211107T070000
END:STANDARD
BEGIN:DAYLIGHT
TZOFFSETFROM:-0600
TZOFFSETTO:-0500
TZNAME:CDT
DTSTART:20220313T080000
END:DAYLIGHT
BEGIN:STANDARD
TZOFFSETFROM:-0500
TZOFFSETTO:-0600
TZNAME:CST
DTSTART:20221106T070000
END:STANDARD
BEGIN:DAYLIGHT
TZOFFSETFROM:-0600
TZOFFSETTO:-0500
TZNAME:CDT
DTSTART:20230312T080000
END:DAYLIGHT
BEGIN:STANDARD
TZOFFSETFROM:-0500
TZOFFSETTO:-0600
TZNAME:CST
DTSTART:20231105T070000
END:STANDARD
END:VTIMEZONE
BEGIN:VEVENT
DTSTART;TZID=America/Chicago:20220327T093000
DTEND;TZID=America/Chicago:20220327T113000
DTSTAMP:20260421T215834
CREATED:20220315T170532Z
LAST-MODIFIED:20220321T211350Z
UID:9535-1648373400-1648380600@willowchurch.com
SUMMARY:Newcomer’s Class - Part 1
DESCRIPTION:Join us for Newcomer’s Class\, where you can acquaint yourself with Willow and learn how you can become part of our church family. \nFor more information\, or to register for the class\, email maggie@willowchurch.com or call the office at 979-297-4079.
URL:https://willowchurch.com/event/newcomers-class-part-1/
LOCATION:Willow Church\, 200 Willow Drive\, Lake Jackson\, TX\, 77566\, United States
ATTACH;FMTTYPE=image/jpeg:https://willowchurch.com/wp-content/uploads/2022/03/Newcomers-Class.jpg
END:VEVENT
BEGIN:VEVENT
DTSTART;TZID=America/Chicago:20220327T120000
DTEND;TZID=America/Chicago:20220327T140000
DTSTAMP:20260421T215834
CREATED:20220315T170615Z
LAST-MODIFIED:20220321T211346Z
UID:9537-1648382400-1648389600@willowchurch.com
SUMMARY:Newcomer’s Class - Part 2
DESCRIPTION:Join us for Newcomer’s Class\, where you can acquaint yourself with Willow and learn how you can become part of our church family. \nFor more information\, or to register for the class\, email maggie@willowchurch.com or call the office at 979-297-4079.
URL:https://willowchurch.com/event/newcomers-class-part-2/
LOCATION:Willow Church\, 200 Willow Drive\, Lake Jackson\, TX\, 77566\, United States
ATTACH;FMTTYPE=image/jpeg:https://willowchurch.com/wp-content/uploads/2022/03/Newcomers-Class.jpg
END:VEVENT
END:VCALENDAR