BEGIN:VCALENDAR
VERSION:2.0
PRODID:-//Willow Church - ECPv6.15.14//NONSGML v1.0//EN
CALSCALE:GREGORIAN
METHOD:PUBLISH
X-ORIGINAL-URL:https://willowchurch.com
X-WR-CALDESC:Events for Willow Church
REFRESH-INTERVAL;VALUE=DURATION:PT1H
X-Robots-Tag:noindex
X-PUBLISHED-TTL:PT1H
BEGIN:VTIMEZONE
TZID:America/Chicago
BEGIN:DAYLIGHT
TZOFFSETFROM:-0600
TZOFFSETTO:-0500
TZNAME:CDT
DTSTART:20190310T080000
END:DAYLIGHT
BEGIN:STANDARD
TZOFFSETFROM:-0500
TZOFFSETTO:-0600
TZNAME:CST
DTSTART:20191103T070000
END:STANDARD
BEGIN:DAYLIGHT
TZOFFSETFROM:-0600
TZOFFSETTO:-0500
TZNAME:CDT
DTSTART:20200308T080000
END:DAYLIGHT
BEGIN:STANDARD
TZOFFSETFROM:-0500
TZOFFSETTO:-0600
TZNAME:CST
DTSTART:20201101T070000
END:STANDARD
BEGIN:DAYLIGHT
TZOFFSETFROM:-0600
TZOFFSETTO:-0500
TZNAME:CDT
DTSTART:20210314T080000
END:DAYLIGHT
BEGIN:STANDARD
TZOFFSETFROM:-0500
TZOFFSETTO:-0600
TZNAME:CST
DTSTART:20211107T070000
END:STANDARD
END:VTIMEZONE
BEGIN:VEVENT
DTSTART;TZID=America/Chicago:20200117T183000
DTEND;TZID=America/Chicago:20200119T090000
DTSTAMP:20260421T212638
CREATED:20191217T203113Z
LAST-MODIFIED:20200107T185701Z
UID:6554-1579285800-1579424400@willowchurch.com
SUMMARY:Overflow Winter Retreat: Just us and Jesus
DESCRIPTION:Event Information:\nWhen & Where: Friday\, January 17th @ 6:30pm-Sunday AM\, January 19th in the youth room @ Willow \nCost: $20 \nRegistration Closes: January 12th \nQuestions? Email alissa@wdbc.net \nRegistration: Please use the registration form below and attach the completed medical release form. \nDownload: Medical Release Form \n\nRegister for Event\n\n\n  \n\n\n\n\n	Student First Name\n	 \n\n\n	Student Last Name\n	 \n\n\n	Student Age as of 7/10/2020\n	 \n\n\n	Shirt Size—Please choose an option—X SmallSmallMediumLargeX Large2x Large3x Large\n	 \n\n\n\n	Parent/Guardian First Name\n	 \n\n\n	Parent/Guardian Last Name\n	 \n\n\n\n	Please attach the EYC Camper Registration Form\n	 \n\n\n	If not submitting the EYC Camper Registration Form online\, confirm you will be delivering it in personI agree\n	 \n\n\n\n	Please attach the Overflow Medical Release Form \n	 \n\n\n	If not submitting the Overflow Medical Release Form online\, confirm you will be delivering it in personI agree\n	 \n\n\n	      \n	 \n\nAfter hitting submit\, you will be directed to PayPal to pay the deposit\, pay the complete amount\, or fill out scholarship info.
URL:https://willowchurch.com/event/overflow-youth-retreat/
LOCATION:Willow Church\, 200 Willow Drive\, Lake Jackson\, TX\, 77566\, United States
ATTACH;FMTTYPE=image/jpeg:https://willowchurch.com/wp-content/uploads/2019/12/overflow-event-thumbnail-min.jpg
END:VEVENT
END:VCALENDAR