BEGIN:VCALENDAR
VERSION:2.0
PRODID:-//Willow Church - ECPv6.15.14//NONSGML v1.0//EN
CALSCALE:GREGORIAN
METHOD:PUBLISH
X-WR-CALNAME:Willow Church
X-ORIGINAL-URL:https://willowchurch.com
X-WR-CALDESC:Events for Willow Church
REFRESH-INTERVAL;VALUE=DURATION:PT1H
X-Robots-Tag:noindex
X-PUBLISHED-TTL:PT1H
BEGIN:VTIMEZONE
TZID:America/Chicago
BEGIN:DAYLIGHT
TZOFFSETFROM:-0600
TZOFFSETTO:-0500
TZNAME:CDT
DTSTART:20180311T080000
END:DAYLIGHT
BEGIN:STANDARD
TZOFFSETFROM:-0500
TZOFFSETTO:-0600
TZNAME:CST
DTSTART:20181104T070000
END:STANDARD
BEGIN:DAYLIGHT
TZOFFSETFROM:-0600
TZOFFSETTO:-0500
TZNAME:CDT
DTSTART:20190310T080000
END:DAYLIGHT
BEGIN:STANDARD
TZOFFSETFROM:-0500
TZOFFSETTO:-0600
TZNAME:CST
DTSTART:20191103T070000
END:STANDARD
BEGIN:DAYLIGHT
TZOFFSETFROM:-0600
TZOFFSETTO:-0500
TZNAME:CDT
DTSTART:20200308T080000
END:DAYLIGHT
BEGIN:STANDARD
TZOFFSETFROM:-0500
TZOFFSETTO:-0600
TZNAME:CST
DTSTART:20201101T070000
END:STANDARD
END:VTIMEZONE
BEGIN:VEVENT
DTSTART;TZID=America/Chicago:20191030T174500
DTEND;TZID=America/Chicago:20191030T184500
DTSTAMP:20260422T042119
CREATED:20191024T050003Z
LAST-MODIFIED:20190911T161845Z
UID:5968-1572457500-1572461100@willowchurch.com
SUMMARY:Wednesday Night Fellowship Meal
DESCRIPTION:Date: October 30th\nMenu: Brisket (bread to be supplied by Texas Roadhouse)\, chips\, baked beans\, dessert\nChef: Pat B (979-292-6203)\nChef: Diana H (979-235-0491)
URL:https://willowchurch.com/event/wednesday-night-fellowship-meal-october-30/
LOCATION:Willow Church\, 200 Willow Drive\, Lake Jackson\, TX\, 77566\, United States
ATTACH;FMTTYPE=image/jpeg:https://willowchurch.com/wp-content/uploads/2019/09/fellowship-meal.jpg
END:VEVENT
BEGIN:VEVENT
DTSTART;TZID=America/Chicago:20191030T183000
DTEND;TZID=America/Chicago:20191030T200000
DTSTAMP:20260422T042119
CREATED:20190911T154400Z
LAST-MODIFIED:20190911T154454Z
UID:5939-1572460200-1572465600@willowchurch.com
SUMMARY:Emotionally Healthy Spirituality - Week 6
DESCRIPTION:Emotionally Healthy Spirituality is an eight week study which links emotional health and spiritual maturity. Biblically\, it is not possible for a Christian to be spiritually mature while remaining emotionally immature. EHS shows you how to integrate emotional health and Christian spirituality while practicing a contemplative lifestyle. EHS meets on Wednesdays from 6:30 – 8:00 PM. Register at the Information Desk in the atrium or by completing the Blue Card. Childcare is provided. For more information\, visit emotionallyhealthy.org or contact Pastor Scott \nCoordinator: Pastor Scott \nDay/Time: Wednesdays @ 6:30 – 8:00pm\nLocation: Willow Church\nStart Date: September 25\, 2019 – 8 week study
URL:https://willowchurch.com/event/emotionally-healthy-spirituality-week-6/
LOCATION:Willow Church\, 200 Willow Drive\, Lake Jackson\, TX\, 77566\, United States
ATTACH;FMTTYPE=image/jpeg:https://willowchurch.com/wp-content/uploads/2019/09/emotnioanlly-healthy.jpg
END:VEVENT
END:VCALENDAR