BEGIN:VCALENDAR
VERSION:2.0
PRODID:-//Willow Church - ECPv6.15.14//NONSGML v1.0//EN
CALSCALE:GREGORIAN
METHOD:PUBLISH
X-WR-CALNAME:Willow Church
X-ORIGINAL-URL:https://willowchurch.com
X-WR-CALDESC:Events for Willow Church
REFRESH-INTERVAL;VALUE=DURATION:PT1H
X-Robots-Tag:noindex
X-PUBLISHED-TTL:PT1H
BEGIN:VTIMEZONE
TZID:America/Chicago
BEGIN:DAYLIGHT
TZOFFSETFROM:-0600
TZOFFSETTO:-0500
TZNAME:CDT
DTSTART:20180311T080000
END:DAYLIGHT
BEGIN:STANDARD
TZOFFSETFROM:-0500
TZOFFSETTO:-0600
TZNAME:CST
DTSTART:20181104T070000
END:STANDARD
BEGIN:DAYLIGHT
TZOFFSETFROM:-0600
TZOFFSETTO:-0500
TZNAME:CDT
DTSTART:20190310T080000
END:DAYLIGHT
BEGIN:STANDARD
TZOFFSETFROM:-0500
TZOFFSETTO:-0600
TZNAME:CST
DTSTART:20191103T070000
END:STANDARD
BEGIN:DAYLIGHT
TZOFFSETFROM:-0600
TZOFFSETTO:-0500
TZNAME:CDT
DTSTART:20200308T080000
END:DAYLIGHT
BEGIN:STANDARD
TZOFFSETFROM:-0500
TZOFFSETTO:-0600
TZNAME:CST
DTSTART:20201101T070000
END:STANDARD
END:VTIMEZONE
BEGIN:VEVENT
DTSTART;TZID=America/Chicago:20191023T093000
DTEND;TZID=America/Chicago:20191023T113000
DTSTAMP:20260422T023605
CREATED:20190827T152333Z
LAST-MODIFIED:20190827T152333Z
UID:5862-1571823000-1571830200@willowchurch.com
SUMMARY:Discerning the Voice of God - Week 7
DESCRIPTION:A 7 Week Study – Discerning the Voice of God by Priscilla Shirer\nWeek 7\nCoordinator: Elaine Winniford\nEmail: winniford1@gmail.com; or sign up at the information desk\nPhone: +1 (979) 236-1373 \nDay/Time: Wednesday’s @ 9:30 am\nLocation: Willow Church\, room to be assigned\nStart Date: September 11\, 2019 – 7 week study
URL:https://willowchurch.com/event/discerning-the-voice-of-god-week-7/
LOCATION:Willow Church\, 200 Willow Drive\, Lake Jackson\, TX\, 77566\, United States
ATTACH;FMTTYPE=image/jpeg:https://willowchurch.com/wp-content/uploads/2019/08/discerning-voice-of-god-cropped.jpg
ORGANIZER;CN="Elaine Winniford":MAILTO:winniford1@gmail.com
END:VEVENT
BEGIN:VEVENT
DTSTART;TZID=America/Chicago:20191023T174500
DTEND;TZID=America/Chicago:20191023T184500
DTSTAMP:20260422T023605
CREATED:20191017T050057Z
LAST-MODIFIED:20190911T161642Z
UID:5966-1571852700-1571856300@willowchurch.com
SUMMARY:Wednesday Night Fellowship Meal
DESCRIPTION:Date: October 23rd\nMenu: Potato Bar\, salad\, dessert\nChef: Jaymie W (979-292-9326)\nChef: Jaymie W (980-430-0534)
URL:https://willowchurch.com/event/wednesday-night-fellowship-meal-october-23/
LOCATION:Willow Church\, 200 Willow Drive\, Lake Jackson\, TX\, 77566\, United States
ATTACH;FMTTYPE=image/jpeg:https://willowchurch.com/wp-content/uploads/2019/09/fellowship-meal.jpg
END:VEVENT
BEGIN:VEVENT
DTSTART;TZID=America/Chicago:20191023T183000
DTEND;TZID=America/Chicago:20191023T200000
DTSTAMP:20260422T023605
CREATED:20190911T154352Z
LAST-MODIFIED:20190911T154534Z
UID:5940-1571855400-1571860800@willowchurch.com
SUMMARY:Emotionally Healthy Spirituality - Week 5
DESCRIPTION:Emotionally Healthy Spirituality is an eight week study which links emotional health and spiritual maturity. Biblically\, it is not possible for a Christian to be spiritually mature while remaining emotionally immature. EHS shows you how to integrate emotional health and Christian spirituality while practicing a contemplative lifestyle. EHS meets on Wednesdays from 6:30 – 8:00 PM. Register at the Information Desk in the atrium or by completing the Blue Card. Childcare is provided. For more information\, visit emotionallyhealthy.org or contact Pastor Scott \nCoordinator: Pastor Scott \nDay/Time: Wednesdays @ 6:30 – 8:00pm\nLocation: Willow Church\nStart Date: September 25\, 2019 – 8 week study
URL:https://willowchurch.com/event/emotionally-healthy-spirituality-week-5/
LOCATION:Willow Church\, 200 Willow Drive\, Lake Jackson\, TX\, 77566\, United States
ATTACH;FMTTYPE=image/jpeg:https://willowchurch.com/wp-content/uploads/2019/09/emotnioanlly-healthy.jpg
END:VEVENT
END:VCALENDAR