BEGIN:VCALENDAR
VERSION:2.0
PRODID:-//Willow Church - ECPv6.15.14//NONSGML v1.0//EN
CALSCALE:GREGORIAN
METHOD:PUBLISH
X-ORIGINAL-URL:https://willowchurch.com
X-WR-CALDESC:Events for Willow Church
REFRESH-INTERVAL;VALUE=DURATION:PT1H
X-Robots-Tag:noindex
X-PUBLISHED-TTL:PT1H
BEGIN:VTIMEZONE
TZID:America/Chicago
BEGIN:DAYLIGHT
TZOFFSETFROM:-0600
TZOFFSETTO:-0500
TZNAME:CDT
DTSTART:20180311T080000
END:DAYLIGHT
BEGIN:STANDARD
TZOFFSETFROM:-0500
TZOFFSETTO:-0600
TZNAME:CST
DTSTART:20181104T070000
END:STANDARD
BEGIN:DAYLIGHT
TZOFFSETFROM:-0600
TZOFFSETTO:-0500
TZNAME:CDT
DTSTART:20190310T080000
END:DAYLIGHT
BEGIN:STANDARD
TZOFFSETFROM:-0500
TZOFFSETTO:-0600
TZNAME:CST
DTSTART:20191103T070000
END:STANDARD
BEGIN:DAYLIGHT
TZOFFSETFROM:-0600
TZOFFSETTO:-0500
TZNAME:CDT
DTSTART:20200308T080000
END:DAYLIGHT
BEGIN:STANDARD
TZOFFSETFROM:-0500
TZOFFSETTO:-0600
TZNAME:CST
DTSTART:20201101T070000
END:STANDARD
END:VTIMEZONE
BEGIN:VEVENT
DTSTART;TZID=America/Chicago:20190925T093000
DTEND;TZID=America/Chicago:20190925T113000
DTSTAMP:20260423T024924
CREATED:20190827T152208Z
LAST-MODIFIED:20190827T152208Z
UID:5858-1569403800-1569411000@willowchurch.com
SUMMARY:Discerning the Voice of God - Week 3
DESCRIPTION:A 7 Week Study – Discerning the Voice of God by Priscilla Shirer\nWeek 3\nCoordinator: Elaine Winniford\nEmail: winniford1@gmail.com; or sign up at the information desk\nPhone: +1 (979) 236-1373 \nDay/Time: Wednesday’s @ 9:30 am\nLocation: Willow Church\, room to be assigned\nStart Date: September 11\, 2019 – 7 week study
URL:https://willowchurch.com/event/discerning-the-voice-of-god-week-3/
LOCATION:Willow Church\, 200 Willow Drive\, Lake Jackson\, TX\, 77566\, United States
ATTACH;FMTTYPE=image/jpeg:https://willowchurch.com/wp-content/uploads/2019/08/discerning-voice-of-god-cropped.jpg
ORGANIZER;CN="Elaine Winniford":MAILTO:winniford1@gmail.com
END:VEVENT
BEGIN:VEVENT
DTSTART;TZID=America/Chicago:20190925T174500
DTEND;TZID=America/Chicago:20190925T184500
DTSTAMP:20260423T024924
CREATED:20190919T050032Z
LAST-MODIFIED:20190911T160833Z
UID:5958-1569433500-1569437100@willowchurch.com
SUMMARY:Wednesday Night Fellowship Meal
DESCRIPTION:Date: September 25th\nMenu: Chili\, rice\, cornbread\, salad\, fruit cobbler\nChef: Mary N (832-922-5985)\nChef: Joyce B (713-825-6711)
URL:https://willowchurch.com/event/wednesday-night-fellowship-meal-september-25/
LOCATION:Willow Church\, 200 Willow Drive\, Lake Jackson\, TX\, 77566\, United States
ATTACH;FMTTYPE=image/jpeg:https://willowchurch.com/wp-content/uploads/2019/09/fellowship-meal.jpg
END:VEVENT
BEGIN:VEVENT
DTSTART;TZID=America/Chicago:20190925T183000
DTEND;TZID=America/Chicago:20190925T200000
DTSTAMP:20260423T024924
CREATED:20190911T153956Z
LAST-MODIFIED:20190911T154517Z
UID:5933-1569436200-1569441600@willowchurch.com
SUMMARY:Emotionally Healthy Spirituality - Week 1
DESCRIPTION:Emotionally Healthy Spirituality is an eight week study which links emotional health and spiritual maturity. Biblically\, it is not possible for a Christian to be spiritually mature while remaining emotionally immature. EHS shows you how to integrate emotional health and Christian spirituality while practicing a contemplative lifestyle. EHS meets on Wednesdays from 6:30 – 8:00 PM. Register at the Information Desk in the atrium or by completing the Blue Card. Childcare is provided. For more information\, visit emotionallyhealthy.org or contact Pastor Scott \nCoordinator: Pastor Scott \nDay/Time: Wednesdays @ 6:30 – 8:00pm\nLocation: Willow Church\nStart Date: September 25\, 2019 – 8 week study
URL:https://willowchurch.com/event/emotionally-healthy-spirituality-week-1/
LOCATION:Willow Church\, 200 Willow Drive\, Lake Jackson\, TX\, 77566\, United States
ATTACH;FMTTYPE=image/jpeg:https://willowchurch.com/wp-content/uploads/2019/09/emotnioanlly-healthy.jpg
END:VEVENT
BEGIN:VEVENT
DTSTART;TZID=America/Chicago:20190925T183000
DTEND;TZID=America/Chicago:20190925T203000
DTSTAMP:20260423T024924
CREATED:20190827T165406Z
LAST-MODIFIED:20190827T165423Z
UID:5878-1569436200-1569443400@willowchurch.com
SUMMARY:Ruth by Kelly Minter - Week 3
DESCRIPTION:A 6 Week Study – Ruth by Kelly Minter\nWeek 3\nCoordinator: Karrie Jarosz and Trisha Huffman\nEmail: kajquilts@comcast.net; or sign up at the information desk\nPhone: +1 (979) 583-8588 \nDay/Time: Wednesday’s @ 6:30 pm\nLocation: Willow Church\, MPR C\nStart Date: September 11\, 2019 – 6 week study
URL:https://willowchurch.com/event/ruth-by-kelly-minter-week-3/
LOCATION:Willow Church\, 200 Willow Drive\, Lake Jackson\, TX\, 77566\, United States
ATTACH;FMTTYPE=image/jpeg:https://willowchurch.com/wp-content/uploads/2019/08/ruth-wide.jpg
ORGANIZER;CN="Karrie Jarosz":MAILTO:kajquilts@comcast.net
END:VEVENT
END:VCALENDAR