BEGIN:VCALENDAR
VERSION:2.0
PRODID:-//Willow Church - ECPv6.15.14//NONSGML v1.0//EN
CALSCALE:GREGORIAN
METHOD:PUBLISH
X-ORIGINAL-URL:https://willowchurch.com
X-WR-CALDESC:Events for Willow Church
REFRESH-INTERVAL;VALUE=DURATION:PT1H
X-Robots-Tag:noindex
X-PUBLISHED-TTL:PT1H
BEGIN:VTIMEZONE
TZID:America/Chicago
BEGIN:DAYLIGHT
TZOFFSETFROM:-0600
TZOFFSETTO:-0500
TZNAME:CDT
DTSTART:20180311T080000
END:DAYLIGHT
BEGIN:STANDARD
TZOFFSETFROM:-0500
TZOFFSETTO:-0600
TZNAME:CST
DTSTART:20181104T070000
END:STANDARD
BEGIN:DAYLIGHT
TZOFFSETFROM:-0600
TZOFFSETTO:-0500
TZNAME:CDT
DTSTART:20190310T080000
END:DAYLIGHT
BEGIN:STANDARD
TZOFFSETFROM:-0500
TZOFFSETTO:-0600
TZNAME:CST
DTSTART:20191103T070000
END:STANDARD
BEGIN:DAYLIGHT
TZOFFSETFROM:-0600
TZOFFSETTO:-0500
TZNAME:CDT
DTSTART:20200308T080000
END:DAYLIGHT
BEGIN:STANDARD
TZOFFSETFROM:-0500
TZOFFSETTO:-0600
TZNAME:CST
DTSTART:20201101T070000
END:STANDARD
END:VTIMEZONE
BEGIN:VEVENT
DTSTART;TZID=America/Chicago:20190913T180000
DTEND;TZID=America/Chicago:20190913T200000
DTSTAMP:20260424T074241
CREATED:20190911T151248Z
LAST-MODIFIED:20190911T151627Z
UID:5901-1568397600-1568404800@willowchurch.com
SUMMARY:Men Connecting Fall Kickoff Dinner
DESCRIPTION:Join us on September 13\, Friday evening at 6 pm in Building B for dinner and fellowship.  Invite another man to come with you.  Please sign up for the dinner AT THE INFORMATION DESK IN the Atrium or by texting Bill Winniford at 979-236-3686. A person standing alone can be attacked and defeated\, but two can stand back-to-back and conquer. Three are even better\, for a triple-braided cord is not easily broken. Eccles. 4:12.
URL:https://willowchurch.com/event/men-connecting-fall-kickoff-dinner/
LOCATION:Willow Church\, 200 Willow Drive\, Lake Jackson\, TX\, 77566\, United States
ATTACH;FMTTYPE=image/jpeg:https://willowchurch.com/wp-content/uploads/2019/09/men-ministry.jpg
END:VEVENT
END:VCALENDAR