BEGIN:VCALENDAR
VERSION:2.0
PRODID:-//Willow Church - ECPv6.15.14//NONSGML v1.0//EN
CALSCALE:GREGORIAN
METHOD:PUBLISH
X-ORIGINAL-URL:https://willowchurch.com
X-WR-CALDESC:Events for Willow Church
REFRESH-INTERVAL;VALUE=DURATION:PT1H
X-Robots-Tag:noindex
X-PUBLISHED-TTL:PT1H
BEGIN:VTIMEZONE
TZID:America/Chicago
BEGIN:DAYLIGHT
TZOFFSETFROM:-0600
TZOFFSETTO:-0500
TZNAME:CDT
DTSTART:20180311T080000
END:DAYLIGHT
BEGIN:STANDARD
TZOFFSETFROM:-0500
TZOFFSETTO:-0600
TZNAME:CST
DTSTART:20181104T070000
END:STANDARD
BEGIN:DAYLIGHT
TZOFFSETFROM:-0600
TZOFFSETTO:-0500
TZNAME:CDT
DTSTART:20190310T080000
END:DAYLIGHT
BEGIN:STANDARD
TZOFFSETFROM:-0500
TZOFFSETTO:-0600
TZNAME:CST
DTSTART:20191103T070000
END:STANDARD
BEGIN:DAYLIGHT
TZOFFSETFROM:-0600
TZOFFSETTO:-0500
TZNAME:CDT
DTSTART:20200308T080000
END:DAYLIGHT
BEGIN:STANDARD
TZOFFSETFROM:-0500
TZOFFSETTO:-0600
TZNAME:CST
DTSTART:20201101T070000
END:STANDARD
END:VTIMEZONE
BEGIN:VEVENT
DTSTART;TZID=America/Chicago:20190911T093000
DTEND;TZID=America/Chicago:20190911T113000
DTSTAMP:20260422T154413
CREATED:20190827T151157Z
LAST-MODIFIED:20190827T151906Z
UID:5850-1568194200-1568201400@willowchurch.com
SUMMARY:Discerning the Voice of God - Week 1
DESCRIPTION:A 7 Week Study – Discerning the Voice of God by Priscilla Shirer\nWeek 1\nCoordinator: Elaine Winniford\nEmail: winniford1@gmail.com; or sign up at the information desk\nPhone: +1 (979) 236-1373 \nDay/Time: Wednesday’s @ 9:30 am\nLocation: Willow Church\, room to be assigned\nStart Date: September 11\, 2019 – 7 week study
URL:https://willowchurch.com/event/discerning-the-voice-of-god-week-1/
LOCATION:Willow Church\, 200 Willow Drive\, Lake Jackson\, TX\, 77566\, United States
ATTACH;FMTTYPE=image/jpeg:https://willowchurch.com/wp-content/uploads/2019/08/discerning-voice-of-god-cropped.jpg
ORGANIZER;CN="Elaine Winniford":MAILTO:winniford1@gmail.com
END:VEVENT
BEGIN:VEVENT
DTSTART;TZID=America/Chicago:20190911T174500
DTEND;TZID=America/Chicago:20190911T184500
DTSTAMP:20260422T154413
CREATED:20190911T155653Z
LAST-MODIFIED:20190911T155824Z
UID:5952-1568223900-1568227500@willowchurch.com
SUMMARY:Wednesday Night Fellowship Meal
DESCRIPTION:Date: September 11th\nMenu: Chicken Spaghetti\, salad\, garlic bread\, dessert\nChef: Jaymie W (979-292-9326)\nChef: Pat B (979-292-6203)
URL:https://willowchurch.com/event/wednesday-night-fellowship-meal-september-11/
LOCATION:Willow Church\, 200 Willow Drive\, Lake Jackson\, TX\, 77566\, United States
ATTACH;FMTTYPE=image/jpeg:https://willowchurch.com/wp-content/uploads/2019/09/fellowship-meal.jpg
END:VEVENT
BEGIN:VEVENT
DTSTART;TZID=America/Chicago:20190911T183000
DTEND;TZID=America/Chicago:20190911T203000
DTSTAMP:20260422T154413
CREATED:20190827T152939Z
LAST-MODIFIED:20190827T162811Z
UID:5869-1568226600-1568233800@willowchurch.com
SUMMARY:Ruth by Kelly Minter - Week 1
DESCRIPTION:A 6 Week Study – Ruth by Kelly Minter\nWeek 1\nCoordinator: Karrie Jarosz and Trisha Huffman\nEmail: kajquilts@comcast.net; or sign up at the information desk\nPhone: +1 (979) 583-8588 \nDay/Time: Wednesday’s @ 6:30 pm\nLocation: Willow Church\, MPR C\nStart Date: September 11\, 2019 – 6 week study
URL:https://willowchurch.com/event/ruth-by-kelly-minter-week-1/
LOCATION:Willow Church\, 200 Willow Drive\, Lake Jackson\, TX\, 77566\, United States
ATTACH;FMTTYPE=image/jpeg:https://willowchurch.com/wp-content/uploads/2019/08/ruth-wide.jpg
ORGANIZER;CN="Karrie Jarosz":MAILTO:kajquilts@comcast.net
END:VEVENT
END:VCALENDAR