BEGIN:VCALENDAR
VERSION:2.0
PRODID:-//Willow Church - ECPv6.15.14//NONSGML v1.0//EN
CALSCALE:GREGORIAN
METHOD:PUBLISH
X-WR-CALNAME:Willow Church
X-ORIGINAL-URL:https://willowchurch.com
X-WR-CALDESC:Events for Willow Church
REFRESH-INTERVAL;VALUE=DURATION:PT1H
X-Robots-Tag:noindex
X-PUBLISHED-TTL:PT1H
BEGIN:VTIMEZONE
TZID:America/Chicago
BEGIN:DAYLIGHT
TZOFFSETFROM:-0600
TZOFFSETTO:-0500
TZNAME:CDT
DTSTART:20180311T080000
END:DAYLIGHT
BEGIN:STANDARD
TZOFFSETFROM:-0500
TZOFFSETTO:-0600
TZNAME:CST
DTSTART:20181104T070000
END:STANDARD
BEGIN:DAYLIGHT
TZOFFSETFROM:-0600
TZOFFSETTO:-0500
TZNAME:CDT
DTSTART:20190310T080000
END:DAYLIGHT
BEGIN:STANDARD
TZOFFSETFROM:-0500
TZOFFSETTO:-0600
TZNAME:CST
DTSTART:20191103T070000
END:STANDARD
BEGIN:DAYLIGHT
TZOFFSETFROM:-0600
TZOFFSETTO:-0500
TZNAME:CDT
DTSTART:20200308T080000
END:DAYLIGHT
BEGIN:STANDARD
TZOFFSETFROM:-0500
TZOFFSETTO:-0600
TZNAME:CST
DTSTART:20201101T070000
END:STANDARD
END:VTIMEZONE
BEGIN:VEVENT
DTSTART;TZID=America/Chicago:20190828T183000
DTEND;TZID=America/Chicago:20190828T200000
DTSTAMP:20260422T203732
CREATED:20190805T160443Z
LAST-MODIFIED:20190812T163629Z
UID:5730-1567017000-1567022400@willowchurch.com
SUMMARY:Splash Party
DESCRIPTION:Kids Quest and Break Out is our children discipleship program that we have from Sept-March of each year for 4 yr..- 6th grade. Information about both Kids Quest and Break Out at the information desk. Registration of $15 must be paid by August 28\, includes workbooks; scholarship are available. \nKids Quest and Break out Splash Party\, waterslides and hot dogs – Aug 28 @ 6:30-8pm here at Willow for our kick- off party of Kids Quest and Break Out. \nFor more information\, contact April Jones at april@wdbc.net.
URL:https://willowchurch.com/event/splash-party/
LOCATION:Willow Church\, 200 Willow Drive\, Lake Jackson\, TX\, 77566\, United States
ATTACH;FMTTYPE=image/jpeg:https://willowchurch.com/wp-content/uploads/2019/08/splash-party.jpg
END:VEVENT
END:VCALENDAR