BEGIN:VCALENDAR
VERSION:2.0
PRODID:-//Willow Church - ECPv6.15.14//NONSGML v1.0//EN
CALSCALE:GREGORIAN
METHOD:PUBLISH
X-WR-CALNAME:Willow Church
X-ORIGINAL-URL:https://willowchurch.com
X-WR-CALDESC:Events for Willow Church
REFRESH-INTERVAL;VALUE=DURATION:PT1H
X-Robots-Tag:noindex
X-PUBLISHED-TTL:PT1H
BEGIN:VTIMEZONE
TZID:America/Chicago
BEGIN:DAYLIGHT
TZOFFSETFROM:-0600
TZOFFSETTO:-0500
TZNAME:CDT
DTSTART:20180311T080000
END:DAYLIGHT
BEGIN:STANDARD
TZOFFSETFROM:-0500
TZOFFSETTO:-0600
TZNAME:CST
DTSTART:20181104T070000
END:STANDARD
BEGIN:DAYLIGHT
TZOFFSETFROM:-0600
TZOFFSETTO:-0500
TZNAME:CDT
DTSTART:20190310T080000
END:DAYLIGHT
BEGIN:STANDARD
TZOFFSETFROM:-0500
TZOFFSETTO:-0600
TZNAME:CST
DTSTART:20191103T070000
END:STANDARD
BEGIN:DAYLIGHT
TZOFFSETFROM:-0600
TZOFFSETTO:-0500
TZNAME:CDT
DTSTART:20200308T080000
END:DAYLIGHT
BEGIN:STANDARD
TZOFFSETFROM:-0500
TZOFFSETTO:-0600
TZNAME:CST
DTSTART:20201101T070000
END:STANDARD
END:VTIMEZONE
BEGIN:VEVENT
DTSTART;VALUE=DATE:20190826
DTEND;VALUE=DATE:20190827
DTSTAMP:20260422T221127
CREATED:20190805T160204Z
LAST-MODIFIED:20190812T163603Z
UID:5726-1566777600-1566863999@willowchurch.com
SUMMARY:WEE PLACE Registration Begins
DESCRIPTION:WEE PLACE PRESCHOOL REGISTRATION OPEN for the 2019-2020 School Year. Wee Place is continuing to take in Registrations for 1 year olds – Pre K for the 2019-2020 school year. \nCLASSES BEGIN AUG. 26TH \nFor more information\, visit with Susan Hines or weeplacepreschool.com.
URL:https://willowchurch.com/event/wee-place-registration-begins/
LOCATION:WEE Place Preschool\, 200 Willow Drive\, Lake Jackson\, 77566\, United States
ATTACH;FMTTYPE=image/jpeg:https://willowchurch.com/wp-content/uploads/2019/08/registration-wee-place.jpg
END:VEVENT
END:VCALENDAR